Package: AlphaMissenseR Version: 1.3.0 Command: /Library/Frameworks/R.framework/Resources/bin/R CMD build --keep-empty-dirs --no-resave-data AlphaMissenseR StartedAt: 2025-02-20 15:51:25 -0500 (Thu, 20 Feb 2025) EndedAt: 2025-02-20 16:15:02 -0500 (Thu, 20 Feb 2025) EllapsedTime: 1417.7 seconds RetCode: 0 Status: OK PackageFile: AlphaMissenseR_1.3.0.tar.gz PackageFileSize: 2.802 MiB