Package: AlphaBeta Version: 1.21.0 Command: chmod a+r AlphaBeta -R && E:\biocbuild\bbs-3.21-bioc\R\bin\R.exe CMD build --keep-empty-dirs --no-resave-data AlphaBeta StartedAt: 2025-02-20 17:12:22 -0500 (Thu, 20 Feb 2025) EndedAt: 2025-02-20 17:17:04 -0500 (Thu, 20 Feb 2025) EllapsedTime: 281.6 seconds RetCode: 0 Status: OK PackageFile: AlphaBeta_1.21.0.tar.gz PackageFileSize: 2.475 MiB