Package: AlphaBeta Version: 1.21.0 Command: /home/biocbuild/bbs-3.21-bioc/R/bin/R CMD INSTALL AlphaBeta StartedAt: 2025-02-20 15:15:24 -0500 (Thu, 20 Feb 2025) EndedAt: 2025-02-20 15:15:36 -0500 (Thu, 20 Feb 2025) EllapsedTime: 12.1 seconds RetCode: 0 Status: OK