Package: AlphaBeta Version: 1.21.0 Command: /home/biocbuild/bbs-3.21-bioc/R/bin/R CMD check --install=check:AlphaBeta.install-out.txt --library=/home/biocbuild/bbs-3.21-bioc/R/site-library --timings AlphaBeta_1.21.0.tar.gz StartedAt: 2025-02-20 19:56:20 -0500 (Thu, 20 Feb 2025) EndedAt: 2025-02-20 20:06:21 -0500 (Thu, 20 Feb 2025) EllapsedTime: 601.1 seconds RetCode: 0 Status: OK CheckDir: AlphaBeta.Rcheck Warnings: 0