Package: AlphaBeta Version: 1.21.0 Command: /home/biocbuild/bbs-3.21-bioc/R/bin/R CMD build --keep-empty-dirs --no-resave-data AlphaBeta StartedAt: 2025-02-20 16:25:06 -0500 (Thu, 20 Feb 2025) EndedAt: 2025-02-20 16:29:24 -0500 (Thu, 20 Feb 2025) EllapsedTime: 258.4 seconds RetCode: 0 Status: OK PackageFile: AlphaBeta_1.21.0.tar.gz PackageFileSize: 2.476 MiB