Package: AlphaBeta Version: 1.21.0 Command: /Library/Frameworks/R.framework/Resources/bin/R CMD check --install=check:AlphaBeta.install-out.txt --library=/Library/Frameworks/R.framework/Resources/library --no-vignettes --timings AlphaBeta_1.21.0.tar.gz StartedAt: 2025-02-21 18:48:24 -0500 (Fri, 21 Feb 2025) EndedAt: 2025-02-21 18:55:39 -0500 (Fri, 21 Feb 2025) EllapsedTime: 435.0 seconds RetCode: 0 Status: OK CheckDir: AlphaBeta.Rcheck Warnings: 0