Package: AgiMicroRna Version: 2.57.0 Command: E:\biocbuild\bbs-3.21-bioc\R\bin\R.exe CMD check --no-multiarch --install=check:AgiMicroRna.install-out.txt --library=E:\biocbuild\bbs-3.21-bioc\R\library --no-vignettes --timings AgiMicroRna_2.57.0.tar.gz StartedAt: 2025-02-20 22:41:36 -0500 (Thu, 20 Feb 2025) EndedAt: 2025-02-20 22:49:10 -0500 (Thu, 20 Feb 2025) EllapsedTime: 454.8 seconds RetCode: 0 Status: WARNINGS CheckDir: AgiMicroRna.Rcheck Warnings: 1