Package: AgiMicroRna Version: 2.57.0 Command: chmod a+r AgiMicroRna -R && E:\biocbuild\bbs-3.21-bioc\R\bin\R.exe CMD build --keep-empty-dirs --no-resave-data AgiMicroRna StartedAt: 2025-02-20 17:10:45 -0500 (Thu, 20 Feb 2025) EndedAt: 2025-02-20 17:14:02 -0500 (Thu, 20 Feb 2025) EllapsedTime: 196.8 seconds RetCode: 0 Status: OK PackageFile: AgiMicroRna_2.57.0.tar.gz PackageFileSize: 2.965 MiB