Package: AgiMicroRna Version: 2.57.0 Command: rm -rf AgiMicroRna.buildbin-libdir && mkdir AgiMicroRna.buildbin-libdir && E:\biocbuild\bbs-3.21-bioc\R\bin\R.exe CMD INSTALL --build --library=AgiMicroRna.buildbin-libdir AgiMicroRna_2.57.0.tar.gz StartedAt: 2025-02-21 07:30:47 -0500 (Fri, 21 Feb 2025) EndedAt: 2025-02-21 07:32:48 -0500 (Fri, 21 Feb 2025) EllapsedTime: 121.0 seconds RetCode: 0 Status: OK PackageFile: AgiMicroRna_2.57.0.zip PackageFileSize: 3.423 MiB