Package: AffyRNADegradation Version: 1.53.0 Command: E:\biocbuild\bbs-3.21-bioc\R\bin\R.exe CMD INSTALL AffyRNADegradation StartedAt: 2025-02-20 15:25:44 -0500 (Thu, 20 Feb 2025) EndedAt: 2025-02-20 15:26:21 -0500 (Thu, 20 Feb 2025) EllapsedTime: 36.8 seconds RetCode: 0 Status: OK