Package: AffyRNADegradation Version: 1.53.0 Command: /home/biocbuild/bbs-3.21-bioc/R/bin/R CMD INSTALL AffyRNADegradation StartedAt: 2025-02-19 15:12:47 -0500 (Wed, 19 Feb 2025) EndedAt: 2025-02-19 15:12:51 -0500 (Wed, 19 Feb 2025) EllapsedTime: 4.0 seconds RetCode: 0 Status: OK