Package: AffyRNADegradation Version: 1.53.0 Command: /Library/Frameworks/R.framework/Resources/bin/R CMD INSTALL AffyRNADegradation StartedAt: 2025-02-19 15:05:29 -0500 (Wed, 19 Feb 2025) EndedAt: 2025-02-19 15:06:03 -0500 (Wed, 19 Feb 2025) EllapsedTime: 33.6 seconds RetCode: 0 Status: OK