Package: AWFisher Version: 1.21.0 Command: chmod a+r AWFisher -R && E:\biocbuild\bbs-3.21-bioc\R\bin\R.exe CMD build --keep-empty-dirs --no-resave-data AWFisher StartedAt: 2025-02-20 17:18:38 -0500 (Thu, 20 Feb 2025) EndedAt: 2025-02-20 17:19:21 -0500 (Thu, 20 Feb 2025) EllapsedTime: 43.0 seconds RetCode: 0 Status: OK PackageFile: AWFisher_1.21.0.tar.gz PackageFileSize: 1.341 MiB