Package: AWFisher Version: 1.21.0 Command: /home/biocbuild/R/R/bin/R CMD build --keep-empty-dirs --no-resave-data AWFisher StartedAt: 2025-01-29 20:56:21 -0000 (Wed, 29 Jan 2025) EndedAt: 2025-01-29 20:57:01 -0000 (Wed, 29 Jan 2025) EllapsedTime: 40.0 seconds RetCode: 0 Status: OK PackageFile: AWFisher_1.21.0.tar.gz PackageFileSize: 1.343 MiB