Package: AWFisher Version: 1.21.0 Command: /Library/Frameworks/R.framework/Resources/bin/R CMD INSTALL AWFisher StartedAt: 2025-02-20 15:02:55 -0500 (Thu, 20 Feb 2025) EndedAt: 2025-02-20 15:03:00 -0500 (Thu, 20 Feb 2025) EllapsedTime: 4.4 seconds RetCode: 0 Status: OK