Package: AUCell Version: 1.29.0 Command: /home/biocbuild/bbs-3.21-bioc/R/bin/R CMD build --keep-empty-dirs --no-resave-data AUCell StartedAt: 2025-02-17 16:09:37 -0500 (Mon, 17 Feb 2025) EndedAt: 2025-02-17 16:11:17 -0500 (Mon, 17 Feb 2025) EllapsedTime: 100.1 seconds RetCode: 0 Status: OK PackageFile: AUCell_1.29.0.tar.gz PackageFileSize: 1.877 MiB