Package: AUCell Version: 1.29.0 Command: /Library/Frameworks/R.framework/Resources/bin/R CMD check --install=check:AUCell.install-out.txt --library=/Library/Frameworks/R.framework/Resources/library --no-vignettes --timings AUCell_1.29.0.tar.gz StartedAt: 2025-02-18 18:51:17 -0500 (Tue, 18 Feb 2025) EndedAt: 2025-02-18 18:55:30 -0500 (Tue, 18 Feb 2025) EllapsedTime: 252.3 seconds RetCode: 0 Status: OK CheckDir: AUCell.Rcheck Warnings: 0