Package: AUCell Version: 1.29.0 Command: /Library/Frameworks/R.framework/Resources/bin/R CMD INSTALL AUCell StartedAt: 2025-02-17 15:20:11 -0500 (Mon, 17 Feb 2025) EndedAt: 2025-02-17 15:20:23 -0500 (Mon, 17 Feb 2025) EllapsedTime: 12.1 seconds RetCode: 0 Status: OK