Package: AUCell Version: 1.29.0 Command: /Library/Frameworks/R.framework/Resources/bin/R CMD check --install=check:AUCell.install-out.txt --library=/Library/Frameworks/R.framework/Resources/library --no-vignettes --timings AUCell_1.29.0.tar.gz StartedAt: 2025-02-17 18:04:19 -0500 (Mon, 17 Feb 2025) EndedAt: 2025-02-17 18:05:48 -0500 (Mon, 17 Feb 2025) EllapsedTime: 89.1 seconds RetCode: 0 Status: OK CheckDir: AUCell.Rcheck Warnings: 0