Package: AUCell Version: 1.29.0 Command: /Library/Frameworks/R.framework/Resources/bin/R CMD build --keep-empty-dirs --no-resave-data AUCell StartedAt: 2025-02-17 15:35:04 -0500 (Mon, 17 Feb 2025) EndedAt: 2025-02-17 15:35:48 -0500 (Mon, 17 Feb 2025) EllapsedTime: 44.5 seconds RetCode: 0 Status: OK PackageFile: AUCell_1.29.0.tar.gz PackageFileSize: 2.414 MiB