Package: AUCell Version: 1.29.0 Command: rm -rf AUCell.buildbin-libdir && mkdir AUCell.buildbin-libdir && /Users/biocbuild/BBS/utils/build-universal.sh AUCell_1.29.0.tar.gz /Library/Frameworks/R.framework/Resources/bin/R AUCell.buildbin-libdir StartedAt: 2025-02-17 22:09:13 -0500 (Mon, 17 Feb 2025) EndedAt: 2025-02-17 22:09:27 -0500 (Mon, 17 Feb 2025) EllapsedTime: 14.2 seconds RetCode: 0 Status: OK PackageFile: AUCell_1.29.0.tgz PackageFileSize: 2.813 MiB