Package: ATACseqQC Version: 1.31.1 Command: /Library/Frameworks/R.framework/Resources/bin/R CMD build --keep-empty-dirs --no-resave-data ATACseqQC StartedAt: 2025-02-19 15:53:36 -0500 (Wed, 19 Feb 2025) EndedAt: 2025-02-19 15:57:10 -0500 (Wed, 19 Feb 2025) EllapsedTime: 213.8 seconds RetCode: 0 Status: OK PackageFile: ATACseqQC_1.31.1.tar.gz PackageFileSize: 14.78 MiB