Package: ASpli Version: 2.17.0 Command: /home/biocbuild/bbs-3.21-bioc/R/bin/R CMD INSTALL ASpli StartedAt: 2025-02-19 15:46:22 -0500 (Wed, 19 Feb 2025) EndedAt: 2025-02-19 15:47:24 -0500 (Wed, 19 Feb 2025) EllapsedTime: 62.2 seconds RetCode: 0 Status: OK