Package: ASpli Version: 2.17.0 Command: /home/biocbuild/bbs-3.21-bioc/R/bin/R CMD build --keep-empty-dirs --no-resave-data ASpli StartedAt: 2025-02-19 16:09:03 -0500 (Wed, 19 Feb 2025) EndedAt: 2025-02-19 16:11:30 -0500 (Wed, 19 Feb 2025) EllapsedTime: 146.1 seconds RetCode: 0 Status: OK PackageFile: ASpli_2.17.0.tar.gz PackageFileSize: 4.778 MiB