Package: ASpli Version: 2.17.0 Command: /Library/Frameworks/R.framework/Resources/bin/R CMD INSTALL ASpli StartedAt: 2025-02-19 15:28:24 -0500 (Wed, 19 Feb 2025) EndedAt: 2025-02-19 15:29:50 -0500 (Wed, 19 Feb 2025) EllapsedTime: 85.3 seconds RetCode: 0 Status: OK