Package: ASpli Version: 2.17.0 Command: rm -rf ASpli.buildbin-libdir && mkdir ASpli.buildbin-libdir && /Users/biocbuild/BBS/utils/build-universal.sh ASpli_2.17.0.tar.gz /Library/Frameworks/R.framework/Resources/bin/R ASpli.buildbin-libdir StartedAt: 2025-02-20 00:20:44 -0500 (Thu, 20 Feb 2025) EndedAt: 2025-02-20 00:22:12 -0500 (Thu, 20 Feb 2025) EllapsedTime: 87.7 seconds RetCode: 0 Status: OK PackageFile: ASpli_2.17.0.tgz PackageFileSize: 3.204 MiB