Package: ASpli Version: 2.17.0 Command: /Library/Frameworks/R.framework/Resources/bin/R CMD build --keep-empty-dirs --no-resave-data ASpli StartedAt: 2025-02-19 15:34:22 -0500 (Wed, 19 Feb 2025) EndedAt: 2025-02-19 15:35:25 -0500 (Wed, 19 Feb 2025) EllapsedTime: 62.6 seconds RetCode: 0 Status: OK PackageFile: ASpli_2.17.0.tar.gz PackageFileSize: 4.778 MiB