Package: ASpli Version: 2.17.0 Command: rm -rf ASpli.buildbin-libdir && mkdir ASpli.buildbin-libdir && /Users/biocbuild/BBS/utils/build-universal.sh ASpli_2.17.0.tar.gz /Library/Frameworks/R.framework/Resources/bin/R ASpli.buildbin-libdir StartedAt: 2025-02-19 22:13:30 -0500 (Wed, 19 Feb 2025) EndedAt: 2025-02-19 22:13:56 -0500 (Wed, 19 Feb 2025) EllapsedTime: 26.5 seconds RetCode: 0 Status: OK PackageFile: ASpli_2.17.0.tgz PackageFileSize: 3.207 MiB