Package: ASURAT Version: 1.11.0 Command: chmod a+r ASURAT -R && E:\biocbuild\bbs-3.21-bioc\R\bin\R.exe CMD build --keep-empty-dirs --no-resave-data ASURAT StartedAt: 2025-02-19 17:17:45 -0500 (Wed, 19 Feb 2025) EndedAt: 2025-02-19 17:34:51 -0500 (Wed, 19 Feb 2025) EllapsedTime: 1026.2 seconds RetCode: 0 Status: OK PackageFile: ASURAT_1.11.0.tar.gz PackageFileSize: 1.161 MiB