Package: ASURAT Version: 1.11.0 Command: /home/biocbuild/bbs-3.21-bioc/R/bin/R CMD build --keep-empty-dirs --no-resave-data ASURAT StartedAt: 2025-02-20 16:27:49 -0500 (Thu, 20 Feb 2025) EndedAt: 2025-02-20 16:40:05 -0500 (Thu, 20 Feb 2025) EllapsedTime: 735.7 seconds RetCode: 0 Status: OK PackageFile: ASURAT_1.11.0.tar.gz PackageFileSize: 1.626 MiB