Package: ASURAT Version: 1.11.0 Command: rm -rf ASURAT.buildbin-libdir && mkdir ASURAT.buildbin-libdir && /Users/biocbuild/BBS/utils/build-universal.sh ASURAT_1.11.0.tar.gz /Library/Frameworks/R.framework/Resources/bin/R ASURAT.buildbin-libdir StartedAt: 2025-02-20 00:20:49 -0500 (Thu, 20 Feb 2025) EndedAt: 2025-02-20 00:21:36 -0500 (Thu, 20 Feb 2025) EllapsedTime: 47.2 seconds RetCode: 0 Status: OK PackageFile: ASURAT_1.11.0.tgz PackageFileSize: 3.591 MiB