Package: ASURAT Version: 1.11.0 Command: /Library/Frameworks/R.framework/Resources/bin/R CMD check --install=check:ASURAT.install-out.txt --library=/Library/Frameworks/R.framework/Resources/library --no-vignettes --timings ASURAT_1.11.0.tar.gz StartedAt: 2025-02-20 18:05:19 -0500 (Thu, 20 Feb 2025) EndedAt: 2025-02-20 18:06:46 -0500 (Thu, 20 Feb 2025) EllapsedTime: 87.0 seconds RetCode: 0 Status: OK CheckDir: ASURAT.Rcheck Warnings: 0