Package: ASSIGN Version: 1.43.0 Command: chmod a+r ASSIGN -R && E:\biocbuild\bbs-3.21-bioc\R\bin\R.exe CMD build --keep-empty-dirs --no-resave-data ASSIGN StartedAt: 2025-02-20 17:17:46 -0500 (Thu, 20 Feb 2025) EndedAt: 2025-02-20 17:18:19 -0500 (Thu, 20 Feb 2025) EllapsedTime: 33.2 seconds RetCode: 0 Status: OK PackageFile: ASSIGN_1.43.0.tar.gz PackageFileSize: 1.621 MiB