Package: ASSIGN Version: 1.43.0 Command: /home/biocbuild/bbs-3.21-bioc/R/bin/R CMD check --install=check:ASSIGN.install-out.txt --library=/home/biocbuild/bbs-3.21-bioc/R/site-library --timings ASSIGN_1.43.0.tar.gz StartedAt: 2025-02-20 20:01:21 -0500 (Thu, 20 Feb 2025) EndedAt: 2025-02-20 20:01:57 -0500 (Thu, 20 Feb 2025) EllapsedTime: 36.0 seconds RetCode: 0 Status: OK CheckDir: ASSIGN.Rcheck Warnings: 0