Package: ASSIGN Version: 1.43.0 Command: /Library/Frameworks/R.framework/Resources/bin/R CMD INSTALL ASSIGN StartedAt: 2025-02-20 15:24:09 -0500 (Thu, 20 Feb 2025) EndedAt: 2025-02-20 15:24:11 -0500 (Thu, 20 Feb 2025) EllapsedTime: 1.2 seconds RetCode: 0 Status: OK