Package: ASSET Version: 2.25.0 Command: E:\biocbuild\bbs-3.21-bioc\R\bin\R.exe CMD INSTALL ASSET StartedAt: 2025-02-20 16:59:50 -0500 (Thu, 20 Feb 2025) EndedAt: 2025-02-20 17:00:05 -0500 (Thu, 20 Feb 2025) EllapsedTime: 14.8 seconds RetCode: 0 Status: OK