Package: ASSET Version: 2.25.0 Command: /Library/Frameworks/R.framework/Resources/bin/R CMD INSTALL ASSET StartedAt: 2025-02-20 15:43:38 -0500 (Thu, 20 Feb 2025) EndedAt: 2025-02-20 15:43:49 -0500 (Thu, 20 Feb 2025) EllapsedTime: 10.6 seconds RetCode: 0 Status: OK