Package: ASSET Version: 2.25.0 Command: /Library/Frameworks/R.framework/Resources/bin/R CMD check --install=check:ASSET.install-out.txt --library=/Library/Frameworks/R.framework/Resources/library --no-vignettes --timings ASSET_2.25.0.tar.gz StartedAt: 2025-02-20 18:52:44 -0500 (Thu, 20 Feb 2025) EndedAt: 2025-02-20 18:54:49 -0500 (Thu, 20 Feb 2025) EllapsedTime: 125.2 seconds RetCode: 0 Status: OK CheckDir: ASSET.Rcheck Warnings: 0