Package: ASSET Version: 2.25.0 Command: /Library/Frameworks/R.framework/Resources/bin/R CMD build --keep-empty-dirs --no-resave-data ASSET StartedAt: 2025-02-20 15:53:08 -0500 (Thu, 20 Feb 2025) EndedAt: 2025-02-20 15:53:28 -0500 (Thu, 20 Feb 2025) EllapsedTime: 20.6 seconds RetCode: 0 Status: OK PackageFile: ASSET_2.25.0.tar.gz PackageFileSize: 322.1 KiB