Package: ASSET Version: 2.25.0 Command: rm -rf ASSET.buildbin-libdir && mkdir ASSET.buildbin-libdir && /Users/biocbuild/BBS/utils/build-universal.sh ASSET_2.25.0.tar.gz /Library/Frameworks/R.framework/Resources/bin/R ASSET.buildbin-libdir StartedAt: 2025-02-21 00:19:27 -0500 (Fri, 21 Feb 2025) EndedAt: 2025-02-21 00:19:39 -0500 (Fri, 21 Feb 2025) EllapsedTime: 12.8 seconds RetCode: 0 Status: OK PackageFile: ASSET_2.25.0.tgz PackageFileSize: 474.8 KiB