Package: ASSET Version: 2.25.0 Command: /Library/Frameworks/R.framework/Resources/bin/R CMD build --keep-empty-dirs --no-resave-data ASSET StartedAt: 2025-02-20 15:34:22 -0500 (Thu, 20 Feb 2025) EndedAt: 2025-02-20 15:34:29 -0500 (Thu, 20 Feb 2025) EllapsedTime: 7.1 seconds RetCode: 0 Status: OK PackageFile: ASSET_2.25.0.tar.gz PackageFileSize: 322.2 KiB