Package: ASICS Version: 2.23.0 Command: /home/biocbuild/bbs-3.21-bioc/R/bin/R CMD build --keep-empty-dirs --no-resave-data ASICS StartedAt: 2025-02-20 16:27:06 -0500 (Thu, 20 Feb 2025) EndedAt: 2025-02-20 16:29:59 -0500 (Thu, 20 Feb 2025) EllapsedTime: 173.2 seconds RetCode: 0 Status: OK PackageFile: ASICS_2.23.0.tar.gz PackageFileSize: 3.581 MiB