Package: ASICS Version: 2.23.0 Command: /Library/Frameworks/R.framework/Resources/bin/R CMD INSTALL ASICS StartedAt: 2025-02-20 15:39:26 -0500 (Thu, 20 Feb 2025) EndedAt: 2025-02-20 15:40:10 -0500 (Thu, 20 Feb 2025) EllapsedTime: 43.7 seconds RetCode: 0 Status: OK