Package: ASICS Version: 2.23.0 Command: /Library/Frameworks/R.framework/Resources/bin/R CMD check --install=check:ASICS.install-out.txt --library=/Library/Frameworks/R.framework/Resources/library --no-vignettes --timings ASICS_2.23.0.tar.gz StartedAt: 2025-02-20 18:52:28 -0500 (Thu, 20 Feb 2025) EndedAt: 2025-02-20 19:05:35 -0500 (Thu, 20 Feb 2025) EllapsedTime: 787.3 seconds RetCode: 0 Status: WARNINGS CheckDir: ASICS.Rcheck Warnings: 1