Package: ASICS Version: 2.23.0 Command: /Library/Frameworks/R.framework/Resources/bin/R CMD build --keep-empty-dirs --no-resave-data ASICS StartedAt: 2025-02-20 15:53:02 -0500 (Thu, 20 Feb 2025) EndedAt: 2025-02-20 15:56:14 -0500 (Thu, 20 Feb 2025) EllapsedTime: 191.8 seconds RetCode: 0 Status: OK PackageFile: ASICS_2.23.0.tar.gz PackageFileSize: 3.582 MiB