Package: ASICS Version: 2.23.0 Command: /Library/Frameworks/R.framework/Resources/bin/R CMD INSTALL ASICS StartedAt: 2025-02-20 15:26:34 -0500 (Thu, 20 Feb 2025) EndedAt: 2025-02-20 15:26:47 -0500 (Thu, 20 Feb 2025) EllapsedTime: 12.8 seconds RetCode: 0 Status: OK