Package: ASEB Version: 1.51.0 Command: chmod a+r ASEB -R && E:\biocbuild\bbs-3.21-bioc\R\bin\R.exe CMD build --keep-empty-dirs --no-resave-data ASEB StartedAt: 2025-02-19 17:16:56 -0500 (Wed, 19 Feb 2025) EndedAt: 2025-02-19 17:17:27 -0500 (Wed, 19 Feb 2025) EllapsedTime: 31.1 seconds RetCode: 0 Status: OK PackageFile: ASEB_1.51.0.tar.gz PackageFileSize: 477.9 KiB