Package: ASEB Version: 1.51.0 Command: rm -rf ASEB.buildbin-libdir && mkdir ASEB.buildbin-libdir && /Users/biocbuild/BBS/utils/build-universal.sh ASEB_1.51.0.tar.gz /Library/Frameworks/R.framework/Resources/bin/R ASEB.buildbin-libdir StartedAt: 2025-02-21 00:19:23 -0500 (Fri, 21 Feb 2025) EndedAt: 2025-02-21 00:19:35 -0500 (Fri, 21 Feb 2025) EllapsedTime: 11.7 seconds RetCode: 0 Status: OK PackageFile: ASEB_1.51.0.tgz PackageFileSize: 779.6 KiB