Package: ASEB Version: 1.51.0 Command: rm -rf ASEB.buildbin-libdir && mkdir ASEB.buildbin-libdir && /Users/biocbuild/BBS/utils/build-universal.sh ASEB_1.51.0.tar.gz /Library/Frameworks/R.framework/Resources/bin/R ASEB.buildbin-libdir StartedAt: 2025-02-20 22:10:20 -0500 (Thu, 20 Feb 2025) EndedAt: 2025-02-20 22:10:24 -0500 (Thu, 20 Feb 2025) EllapsedTime: 4.1 seconds RetCode: 0 Status: OK PackageFile: ASEB_1.51.0.tgz PackageFileSize: 777.6 KiB