Package: ASAFE Version: 1.33.0 Command: chmod a+r ASAFE -R && E:\biocbuild\bbs-3.21-bioc\R\bin\R.exe CMD build --keep-empty-dirs --no-resave-data ASAFE StartedAt: 2025-02-20 17:16:46 -0500 (Thu, 20 Feb 2025) EndedAt: 2025-02-20 17:17:06 -0500 (Thu, 20 Feb 2025) EllapsedTime: 19.6 seconds RetCode: 0 Status: OK PackageFile: ASAFE_1.33.0.tar.gz PackageFileSize: 427.1 KiB